BEGIN:VCALENDAR
VERSION:2.0
PRODID:-//Rodger Kamenetz - ECPv6.15.20//NONSGML v1.0//EN
CALSCALE:GREGORIAN
METHOD:PUBLISH
X-ORIGINAL-URL:https://kamenetz.com
X-WR-CALDESC:Events for Rodger Kamenetz
REFRESH-INTERVAL;VALUE=DURATION:PT1H
X-Robots-Tag:noindex
X-PUBLISHED-TTL:PT1H
BEGIN:VTIMEZONE
TZID:America/Chicago
BEGIN:DAYLIGHT
TZOFFSETFROM:-0600
TZOFFSETTO:-0500
TZNAME:CDT
DTSTART:20250309T080000
END:DAYLIGHT
BEGIN:STANDARD
TZOFFSETFROM:-0500
TZOFFSETTO:-0600
TZNAME:CST
DTSTART:20251102T070000
END:STANDARD
BEGIN:DAYLIGHT
TZOFFSETFROM:-0600
TZOFFSETTO:-0500
TZNAME:CDT
DTSTART:20260308T080000
END:DAYLIGHT
BEGIN:STANDARD
TZOFFSETFROM:-0500
TZOFFSETTO:-0600
TZNAME:CST
DTSTART:20261101T070000
END:STANDARD
BEGIN:DAYLIGHT
TZOFFSETFROM:-0600
TZOFFSETTO:-0500
TZNAME:CDT
DTSTART:20270314T080000
END:DAYLIGHT
BEGIN:STANDARD
TZOFFSETFROM:-0500
TZOFFSETTO:-0600
TZNAME:CST
DTSTART:20271107T070000
END:STANDARD
END:VTIMEZONE
BEGIN:VEVENT
DTSTART;TZID=America/Chicago:20260228T100000
DTEND;TZID=America/Chicago:20260301T140000
DTSTAMP:20260421T085953
CREATED:20251104T191657Z
LAST-MODIFIED:20251219T154847Z
UID:2352-1772272800-1772373600@kamenetz.com
SUMMARY:Seeing Into the Life of Things: A Contemplative Retreat
DESCRIPTION:Join Master Naturalist Jordan Bantuelle\, dream teacher Kezia Vida and Seeing into the Life of Things author Rodger Kamenetz for an immersive contemplative two day retreat teaching the spiritual power of giving birth to our own images. We will walk the woods\, deepen our remembering and find the sacred encounters in our dreams all in the beautiful natural environment of the All You Need Institute in the Mississippi countryside. We will learn how to count our blessings and deepen our capacity to feel and so strengthen our resilience in a world constantly provoking our reactivity. \nTO REGISTER and for more Information CLICK HERE
URL:https://kamenetz.com/event/seeing-into-the-life-of-things-a-contemplative-retreat/
LOCATION:All You Need Institute\, 40 Biscarner Road\, Lumberton\, MS\, United States
CATEGORIES:Retreat,Seeing into the Life of Things
ATTACH;FMTTYPE=image/heic:https://kamenetz.com/wp-content/uploads/2025/12/IMG_0232-scaled.jpg
ORGANIZER;CN="Kezia Vida":MAILTO:hello@keziavida.com
END:VEVENT
BEGIN:VEVENT
DTSTART;TZID=America/Chicago:20260320T100000
DTEND;TZID=America/Chicago:20260320T120000
DTSTAMP:20260421T085953
CREATED:20260320T141823Z
LAST-MODIFIED:20260320T141823Z
UID:2460-1774000800-1774008000@kamenetz.com
SUMMARY:Seeing into the Life of Things CG Jung Cener
DESCRIPTION:At the CH JUNG Center in Evanston IL I will present a special two hour class on using images to heal—in memory\, dreams and perception. We will explore the role of imagination in spiritual practice. For more information \nThe C. G. Jung Center\n817 Dempster Street\nEvanston\, IL 60201\nPhone: 847-475-4848 \nContact:  \nhttps://www.cgjungcenter.org/contact-us/
URL:https://kamenetz.com/event/seeing-into-the-life-of-things-cg-jung-cener/
LOCATION:CG Jung Center\, 817 Dempster St\, Evanton\, IL\, 60201\, United States
CATEGORIES:Book Talk,Seeing into the Life of Things
ATTACH;FMTTYPE=image/jpeg:https://kamenetz.com/wp-content/uploads/2025/12/IMG_6552.jpeg
END:VEVENT
END:VCALENDAR