BEGIN:VCALENDAR
VERSION:2.0
PRODID:-//Rodger Kamenetz - ECPv6.15.20//NONSGML v1.0//EN
CALSCALE:GREGORIAN
METHOD:PUBLISH
X-ORIGINAL-URL:https://kamenetz.com
X-WR-CALDESC:Events for Rodger Kamenetz
REFRESH-INTERVAL;VALUE=DURATION:PT1H
X-Robots-Tag:noindex
X-PUBLISHED-TTL:PT1H
BEGIN:VTIMEZONE
TZID:America/Chicago
BEGIN:DAYLIGHT
TZOFFSETFROM:-0600
TZOFFSETTO:-0500
TZNAME:CDT
DTSTART:20250309T080000
END:DAYLIGHT
BEGIN:STANDARD
TZOFFSETFROM:-0500
TZOFFSETTO:-0600
TZNAME:CST
DTSTART:20251102T070000
END:STANDARD
BEGIN:DAYLIGHT
TZOFFSETFROM:-0600
TZOFFSETTO:-0500
TZNAME:CDT
DTSTART:20260308T080000
END:DAYLIGHT
BEGIN:STANDARD
TZOFFSETFROM:-0500
TZOFFSETTO:-0600
TZNAME:CST
DTSTART:20261101T070000
END:STANDARD
BEGIN:DAYLIGHT
TZOFFSETFROM:-0600
TZOFFSETTO:-0500
TZNAME:CDT
DTSTART:20270314T080000
END:DAYLIGHT
BEGIN:STANDARD
TZOFFSETFROM:-0500
TZOFFSETTO:-0600
TZNAME:CST
DTSTART:20271107T070000
END:STANDARD
END:VTIMEZONE
BEGIN:VEVENT
DTSTART;TZID=America/Chicago:20260202T174500
DTEND;TZID=America/Chicago:20260202T184500
DTSTAMP:20260421T120409
CREATED:20251217T163712Z
LAST-MODIFIED:20251217T172115Z
UID:2435-1770054300-1770057900@kamenetz.com
SUMMARY:Seeing into the Life of Things: Retrospective on Fifty Years of Jewish-American Poetry and Spiritual Autobiography (60 min)
DESCRIPTION:Monday\, February 2 @ The Museum of Southern Jewish Experience (818 Howard Ave)\, 5:45-6:45pm\nSeeing into the Life of Things: Retrospective on Fifty Years of Jewish-American Poetry and Spiritual Autobiography (60 min) \nRodger Kamenetz (Louisiana State University) in conversation with Joel Dinerstein (Tulane University) \n\n\nHors d’oeuvres and drinks provided \n6:45pm-7:30pm (45 min) \nOptional chance to explore the Museum of Southern Jewish Experience
URL:https://kamenetz.com/event/seeing-into-the-life-of-things-retrospective-on-fifty-years-of-jewish-american-poetry-and-spiritual-autobiography-60-min/
LOCATION:Museum of Southern Jewish Experience\, 818 Howard Avenue\, New Orleans\, LA\, United States
CATEGORIES:Seeing into the Life of Things
ATTACH;FMTTYPE=image/jpeg:https://kamenetz.com/wp-content/uploads/2025/12/IMG_6552.jpeg
END:VEVENT
END:VCALENDAR